BEGIN:VCALENDAR
METHOD:PUBLISH
VERSION:2.0
PRODID:-//Eventilla iCal Syndication//NONSGML Liana//EN
BEGIN:VEVENT
UID:NP8rZ@eventilla.com
DTSTAMP:20260319T143000Z
DTSTART:20260319T143000Z
DTEND:20260319T163000Z
SUMMARY:Minustako työntekijöiden edustaja Jyväskylä
DESCRIPTION:Minustako työntekijöiden edustaja!\n\nOlisiko sinusta työntekijöiden edustajaksi?\nLuottamusmies tai työsuojeluvaltuutettu – tärkeä rooli työpaikalla!\nHaluatko vaikuttaa työpaikan asioihin\, edistää oikeudenmukaisuutta ja varmistaa turvallisen työympäristön? Nyt sinulla on tilaisuus tutustua näihin merkittäviin tehtäviin ja selvittää\, sopisiko rooli sinulle.\nTule mukaan koulutukseen\, jossa kerromme:\n\nMitä luottamusmies ja työsuojeluvaltuutettu tekevät?\nMillaisia oikeuksia ja velvollisuuksia tehtäviin kuuluu?\nMiten tehtävä tukee sinua ja työyhteisöä?\n\nKenelle? Kaikille työntekijöille\, jotka ovat kiinnostuneita vaikuttamisesta ja haluavat tietää lisää.\nMiksi osallistua?\n\nSaat arvokasta tietoa ja tukea\nOpit\, miten voit tehdä työpaikastasi paremman\nMahdollisuus ottaa askel kohti merkityksellistä roolia\n\nAjankohta: 19.3.2026 klo 16.30–18.30\nPaikka: Rakennusliitto Jyväskylän palvelupiste\, Aholaidantie 3\, Jyväskylä\nRakentavin Terveisin\nRakennusliitto Läntinen palvelualue
LOCATION:Rakennusliitto Jyväskylän palvelupiste\, Aholaidantie 3\,
 40320\, Jyväskylä\, Suomi
URL:http://ilmoittaudu.rakennusliitto.fi/jyvaskyla190326
END:VEVENT
END:VCALENDAR
