BEGIN:VCALENDAR
METHOD:PUBLISH
VERSION:2.0
PRODID:-//Eventilla iCal Syndication//NONSGML Liana//EN
BEGIN:VEVENT
UID:ryoLq@eventilla.com
DTSTAMP:20251017T140000Z
DTSTART:20251017T140000Z
DTEND:20251017T190000Z
SUMMARY:Tervetuloa mukaan urakkatyön saunailtaan!
DESCRIPTION:Rakennusliitto järjestää urakkatyössä työskenteleville jäsenille\, etumiehille ja urakkaporukoille rennon saunaillan perjantaina 17.10 liiton edustustiloissa alkaen klo 17.00\n💬 Tule viettämään mukavaa iltaa kollegoiden kesken – verkostoidutaan\, vaihdetaan ajatuksia ja nautitaan hyvästä seurasta!\n🔹 Tarjolla on pientä purtavaa ja virvokkeita\n🔹 Omat saunajuomat sallittu\, pyyhkeet talon puolesta\n🔹 Saunan lisäksi tiloissa voit pelata biljardia\, dartsia\, pöytäkurlingia ja pokeria.\nIlta on oiva tilaisuus rentoutua\, viihtyä ja tutustua muihin alan ammattilaisiin rennossa ilmapiirissä.\n \n👉 Laita päivä kalenteriin ja tule mukaan!Tervetuloa!\n \nLisätietoja:\nMikko Pääkkönen 044-3003335 (Rakennusala)\nmikko.paakkonen@rakennusliitto.fi   \nTimo Turpeinen 0400404818 (Talotekniikka-ala)\ntimo.turpeinen@rakennusliitto.fi
LOCATION:Rakennusliiton Helsingin palvelupiste\, Siltasaarenkatu 4\,
 00530\, Helsinki\, Suomi
URL:http://ilmoittaudu.rakennusliitto.fi/saunailta
END:VEVENT
END:VCALENDAR
