BEGIN:VCALENDAR
METHOD:PUBLISH
VERSION:2.0
PRODID:-//Eventilla iCal Syndication//NONSGML Liana//EN
BEGIN:VEVENT
UID:xObAY@eventilla.com
DTSTAMP:20201008T140000Z
DTSTART:20201008T140000Z
DTEND:20201008T150000Z
SUMMARY:Rakentajanaisten verkkotapaaminen
DESCRIPTION:Ilmoittaudu nyt rakentajanaisten verkkotapaamiseen!\nKoronatilanteen vuoksi perinteinen rakentajanaisten viikonlopputapaaminen on peruttu tältä syksyltä. Haluamme kuitenkin tarjota mahdollisuuden nähdä toisiamme verkon välityksellä\, vaihtaa kuulumisia ja kuulostella teiltä aiheita\, mistä haluaisitte syksyn aikana kuulla ja keskustella.\n\nTarkoitus siis on järjestää lisää verkkotapaamisia eri aiheiden tiimoilta ennen seuraavaa Rakentajanaisten lähitapaamista\, joka on suunniteltu järjestettävän tammikuussa 2021 SAK:n Tulevaisuus tänään -tapahtuman yhteydessä.\nIlmoittaudu mukaan\, pääset alta lomakkeeseen! 7.10. toimitetaan tapahtuman Google Meet -linkki kaikille ilmoittautuneille sähköpostitse.
LOCATION:
URL:http://ilmoittaudu.rakennusliitto.fi/naistapaaminen2020
END:VEVENT
END:VCALENDAR
